BEGIN:VCALENDAR
VERSION:2.0
PRODID:-//Adipros - ECPv6.15.11//NONSGML v1.0//EN
CALSCALE:GREGORIAN
METHOD:PUBLISH
X-WR-CALNAME:Adipros
X-ORIGINAL-URL:https://www.adipros.com.br
X-WR-CALDESC:Eventos para Adipros
REFRESH-INTERVAL;VALUE=DURATION:PT1H
X-Robots-Tag:noindex
X-PUBLISHED-TTL:PT1H
BEGIN:VTIMEZONE
TZID:America/Sao_Paulo
BEGIN:STANDARD
TZOFFSETFROM:-0300
TZOFFSETTO:-0300
TZNAME:-03
DTSTART:20240101T000000
END:STANDARD
END:VTIMEZONE
BEGIN:VEVENT
DTSTART;TZID=America/Sao_Paulo:20250322T080000
DTEND;TZID=America/Sao_Paulo:20250323T120000
DTSTAMP:20260423T184225
CREATED:20250313T144753Z
LAST-MODIFIED:20250313T144753Z
UID:24339-1742630400-1742731200@www.adipros.com.br
SUMMARY:Bazar Solidário - Arca da Aliança - Março/2025
DESCRIPTION:Neste Bazar Solidário ofertaremos roupas novas\, semi-novas e usadas a baixo custo\, com o propósito de arrecadar fundos para os projetos sociais subsidiados pela nossa associação. \nTempo para a compra: 1h \n\n⚠️ ⚠️Quantidade de inscrição permitida por CPF: 1 inscrição (inscrições feitas em duplicidade de CPF\, nome ou telefone\, serão TODAS CANCELADAS)\n\n⚠️ Atenção! A entrada no bazar é mediante a doação de 1kg de alimento. Sua doação ajudará a transformar vidas! \nObservação: levar sacola \nRegras do Bazar Solidário: \n\nSEM FINS LUCRATIVOS: Os Bazares Solidários não se caracterizam como lojas e não possuem fins lucrativos. Sua dinâmica está pautada na doação solidária de recursos em troca de produtos disponíveis nos Bazares Solidários.\nRECURSOS PARA AÇÕES SOCIAIS: Todos os recursos mobilizados com os Bazares Solidários são destinados nas ações de assistência social e pastoral da Cáritas Brasileira Regional Santa Catarina\, das Cáritas Diocesanas e Paroquiais\, e das entidades parceiras de assistência social e filantrópicas.\nDESTINADO PARA PESSOAS FÍSICAS: Os Bazares Solidários se destinam exclusivamente para pessoas físicas – com finalidade de uso pessoal e familiar – que buscam roupas de boa qualidade com pequenas avarias para consertos e customização.\nPROIBIDA A COMERCIALIZAÇÃO: É expressamente proibida a comercialização dos produtos adquiridos nos Bazares Solidários em qualquer meio como: brechós\, lojas virtuais ou físicas\, redes sociais ou outros meios. Ao identificarmos tal conduta\, as pessoas envolvidas terão sua participação nos Bazares Solidários suspensa.\nPROIBIDO FILMAR/FOTOGRAFAR: É expressamente proibido filmar\, tirar fotos ou vincular qualquer conteúdo relacionado aos Bazares Solidários e afins sem autorização da Cáritas Brasileira Regional Santa Catarina\, nos termos na Lei nº 13.709/2018.\nNÃO É TOLERADA VIOLÊNCIA: Não é tolerada nenhuma forma de violência\, seja ela física\, verbal ou qualquer outro tipo. Em caso de qualquer tipo de violência\, os envolvidos serão vetados da participação nos Bazares Solidários.\nLIMITE DE COMPRA DE R$ 500\,00: Cada Participante dos Bazares Solidários da Rede Cáritas de Santa Catarina terá o limite máximo de compras no valor de R$ 500\,00.\nNÃO EFETUAMOS TROCAS.\n\nPara participar deste bazar\, agende seu horário: \n  The AJAX failed or the nonce verification failed.  If you encounter this error repeatedly\, it is possible that access is being blocked by a security-related plugin. Please try changing the values of "Select the URL for AJAX on the public page" and "Select a function to validate the value of a nonce with AJAX on the public page" in Booking Package > General Settings. Sign UpSign InSign OutEditar meu perfilBooking HistorySubscribed items\n				Nome de usuário ou endereço de e-mail\n				\n			 \n				Senha\n				\n			  Lembrar-me \n				\n				\n			                   Sign Up          close                                    Cadastrar                 Perfil         close                                Perfil             Itens assinados                    abc               Usuário            E-mail                        Status               Aprovado                                Senha             Change Password                                                              Atualizar perfil         Excluir          \n    \n    \n    \n    \n    \n        \n            Booking History\n            close\n        \n        \n            \n                \n                    ID\n                    Data da reserva\n                    Calendário\n                    Status\n                \n            \n        \n        \n            \n            navigate_before\n            navigate_next\n            \n        \n    \n    \n        \n            Booking Details\n            close\n        \n        \n            \n        \n        \n            \n            Voltar\n            Cancel Booking\n            \n        \n    \n    \n        \n            Booking Details\n        \n        \n            \n            \n        \n    \n														Por favor selecione uma opçãoService Details																				Voltar			Voltar									Próximo										We sent a verification code to the following address. 						Please enter a verification code.						Verify
URL:https://www.adipros.com.br/evento/bazar-solidario-arca-da-alianca-marco-2025/
LOCATION:Missão Arca Seminário\, Rua Florianópolis\, 915\, Bairro Guabanara\, Joinville\, Santa Catarina\, 89207-407\, Brasil
CATEGORIES:Bazar Solidário
ATTACH;FMTTYPE=image/jpeg:https://www.adipros.com.br/wp-content/uploads/2025/03/Imagem-do-WhatsApp-de-2025-03-10-as-20.54.40_17a9d9ad.jpg
ORGANIZER;CN="ADIPROS | Associa%C3%A7%C3%A3o Diocesana de Promo%C3%A7%C3%A3o Social":MAILTO:administrativo@adipros.com.br
END:VEVENT
END:VCALENDAR